BEGIN:VCALENDAR
VERSION:2.0
PRODID:-//High Definition Band - ECPv6.15.20//NONSGML v1.0//EN
CALSCALE:GREGORIAN
METHOD:PUBLISH
X-WR-CALNAME:High Definition Band
X-ORIGINAL-URL:https://highdefband.com
X-WR-CALDESC:Events for High Definition Band
REFRESH-INTERVAL;VALUE=DURATION:PT1H
X-Robots-Tag:noindex
X-PUBLISHED-TTL:PT1H
BEGIN:VTIMEZONE
TZID:UTC
BEGIN:STANDARD
TZOFFSETFROM:+0000
TZOFFSETTO:+0000
TZNAME:UTC
DTSTART:20250101T000000
END:STANDARD
END:VTIMEZONE
BEGIN:VEVENT
DTSTART;VALUE=DATE:20260425
DTEND;VALUE=DATE:20260426
DTSTAMP:20260423T121359
CREATED:20260228T065526Z
LAST-MODIFIED:20260228T065526Z
UID:2034-1777075200-1777161599@highdefband.com
SUMMARY:Wedding-Dallas
DESCRIPTION:
URL:https://highdefband.com/event/wedding-dallas/
END:VEVENT
END:VCALENDAR